Workbook

Sheet A Side
A1: SIDE A
A4: ROUND I | D4: ROUND II | G4: ROUND IV | J4: ROUND VI | M4: ROUND VIII
C6: Lane
C7: 1
F8: Lane
A9: 1 | D9: =IF(B7>0,IF(B7>B11,A7,A11)," ") | F9: 7
C11: 2 | I11: Lane
D12: 9 | G12: =IF(E9>0,IF(E9>E15,D9,D15)," ") | I12: 5
C13: 3
A15: 2 | D15: =IF(B13>0,IF(B13>B17,A13,A17)," ") | F15: 8
C17: 4 | L17: Lane
G18: 13 | J18: =IF(H12>0,IF(H12>H24,G12,G24)," ") | L18: 3
C19: 5
A21: 3 | D21: =IF(B19>0,IF(B19>B23,A19,A23)," ") | F21: 1
C23: 6
D24: 10 | G24: =IF(E21>0,IF(E21>E27,D21,D27)," ") | I24: 6
C25: 7
A27: 4 | D27: =IF(B25>0,IF(B25>B29,A25,A29)," ") | F27: 2
C29: 8 | O29: Lane
J30: 15 | O30: 6
C31: 9
A33: 5 | D33: =IF(B31>0,IF(B31>B35,A31,A35)," ") | F33: 5
C35: 10
D36: 11 | G36: =IF(E33>0,IF(E33>E39,D33,D39)," ") | I36: 7
C37: 11
A39: 6 | D39: =IF(B37>0,IF(B37>B41,A37,A41)," ") | F39: 6
C41: 12
G42: 14 | J42: =IF(H36>0,IF(H36>H48,G36,G48)," ") | L42: 4
C43: 13
A45: 7 | D45: =IF(B43>0,IF(B43>B47,A43,A47)," ") | F45: 3
C47: 14
D48: 12 | G48: =IF(E45>0,IF(E45>E51,D45,D51)," ") | I48: 8
C49: 15
A51: 8 | D51: =IF(B49>0,IF(B49>B53,A49,A53)," ") | F51: 4
C53: 16
J66: =IF(H60>0,IF(H60>H72,G60,G72)," ")

Sheet B Side
G1: SIDE B
D4: ROUND VIII | G4: ROUND VII | J4: ROUND VI | M4: ROUND V | P4: ROUND IV | S4: ROUND III | V4: ROUND II
O6: Lane | U6: Lane
M7: =IF('A Side'!H60>0,IF('A Side'!H60>'A Side'!H72,'A Side'!G72,'A Side'!G60)," ") | O7: 7 | S7: =IF('A Side'!E33>0,IF('A Side'!E33>'A Side'!E39,'A Side'!D39,'A Side'!D33)," ") | U7: 3
M8: L13 | S8: L9
R9: Lane
L10: Lane | P10: =IF(T7>0,IF(T7>T13,S7,S13)," ") | R10: 1 | X10: Lane
J11: =IF(N7>0,IF(N7>N15,M7,M15)," ") | L11: 3 | V11: =IF('A Side'!B19>0,IF('A Side'!B19>'A Side'!B23,'A Side'!A23,'A Side'!A19)," ") | X11: 9
V12: L3
S13: =IF(W11>0,IF(W11>W15,V11,V15)," ") | U13: 4
M15: =IF(Q10>0,IF(Q10>Q19,P10,P19)," ") | O15: 8 | V15: =IF('A Side'!B25>0,IF('A Side'!B25>'A Side'!B29,'A Side'!A29,'A Side'!A25)," ") | X15: 10
S16: =IF('A Side'!E21>0,IF('A Side'!E21>'A Side'!E27,'A Side'!D27,'A Side'!D21)," ") | U16: 5 | V16: L4
S17: L10
I19: Lane | P19: =IF(T16>0,IF(T16>T22,S16,S22)," ") | R19: 2
G20: =IF(K11>0,IF(K11>K29,J11,J29)," ") | I20: 7 | V20: =IF('A Side'!B7>0,IF('A Side'!B7>'A Side'!B11,'A Side'!A11,'A Side'!A7)," ") | X20: 13
V21: L1
S22: =IF(W20>0,IF(W20>W24,V20,V24)," ") | U22: 6
V24: =IF('A Side'!B13>0,IF('A Side'!B13>'A Side'!B17,'A Side'!A17,'A Side'!A13)," ") | X24: 14
M25: =IF('A Side'!H36>0,IF('A Side'!H36>'A Side'!H48,'A Side'!G48,'A Side'!G36)," ") | O25: 5 | S25: =IF('A Side'!E9>0,IF('A Side'!E9>'A Side'!E15,'A Side'!D15,'A Side'!D9)," ") | U25: 1 | V25: L2
M26: L14 | S26: L11
P28: =IF(T25>0,IF(T25>T31,S25,S31)," ") | R28: 3
J29: =IF(N25>0,IF(N25>N33,M25,M33)," ") | L29: 4 | V29: =IF('A Side'!B31>0,IF('A Side'!B31>'A Side'!B35,'A Side'!A35,'A Side'!A31)," ") | X29: 11
V30: L5
S31: =IF(W29>0,IF(W29>W33,V29,V33)," ") | U31: 2
M33: =IF(Q28>0,IF(Q28>Q37,P28,P37)," ") | O33: 6 | V33: =IF('A Side'!B37>0,IF('A Side'!B37>'A Side'!B41,'A Side'!A41,'A Side'!A37)," ") | X33: 12
S34: =IF('A Side'!E57>0,IF('A Side'!E57>'A Side'!E63,'A Side'!D63,'A Side'!D57)," ") | U34: 7 | V34: L6
D35: =IF(H20>0,IF(H20>H54,G20,G54)," ") | F35: 6 | S35: L12
P37: =IF(T34>0,IF(T34>T40,S34,S40)," ") | R37: 4
V38: =IF('A Side'!B67>0,IF('A Side'!B67>'A Side'!B71,'A Side'!A71,'A Side'!A67)," ") | X38: 15
V39: L7
S40: =IF(W38>0,IF(W38>W42,V38,V42)," ") | U40: 8
V42: =IF('A Side'!B73>0,IF('A Side'!B73>'A Side'!B77,'A Side'!A77,'A Side'!A73)," ") | X42: 16
V43: L8
G54: =IF(K47>0,IF(K47>K60,J47,J60)," ") | I54: 8
G55: L15

Sheet Round Results
D1: ROUND 1 | L1: ROUND 2
A2: Sharon Tatryn | B2: 160 | E2: Marissa Naylor\ | F2: 227 | I2: Robbie Scerbo | J2: 185 | M2: Claudio Silvari | N2: 160
A3: Lynne Gauthier | B3: 233 | C3: =SUM(B2:B3) -> 393 | E3: Liam Naylor | F3: 193 | G3: =SUM(F2:F3) -> 420 | I3: Michael Schmidt | J3: 215 | K3: =SUM(J2:J3) -> 400 | M3: Michael Boroskae | N3: 183 | O3: =SUM(N2:N3) -> 343
A4: vs | E4: vs | I4: vs | M4: vs
A5: Rob Dufreane\ | B5: 175 | E5: Kerrie Watson | F5: 166 | I5: Randy Kostenuk | J5: 240 | M5: Tim Francisco | N5: 236
A6: Clem Perreault\ | B6: 180 | C6: =SUM(B5:B6) -> 355 | E6: Kevin Higgins | F6: 232 | G6: =SUM(F5:F6) -> 398 | I6: Earl Sobotkiewicz | J6: 183 | K6: =SUM(J5:J6) -> 423 | M6: Kirk Calvadores | N6: 185 | O6: =SUM(N5:N6) -> 421
A8: John Doe | B8: 160 | E8: Tim Francisco | F8: 234 | I8: Brittany Crawford | J8: 160 | M8: Armand Garcia | N8: 167
A9: John Doe | B9: 160 | C9: =SUM(B8:B9) -> 320 | E9: Kirk Calvadores | F9: 206 | G9: =SUM(F8:F9) -> 440 | I9: Jason Borle | J9: 202 | K9: =SUM(J8:J9) -> 362 | M9: Alvin Mandauyo | N9: 243 | O9: =SUM(N8:N9) -> 410
A10: vs | E10: vs | I10: vs | M10: vs
A11: David Hawrysh | B11: 206 | E11: Robbie Scerbo | F11: 266 | I11: Ryan Kruk | J11: 177 | M11: Shauna Franchewski | N11: 185
A12: Doug Ross | B12: 276 | C12: =SUM(B11:B12) -> 482 | E12: Michael Schmidt | F12: 279 | G12: =SUM(F11:F12) -> 545 | I12: Dan Tereck | J12: 183 | K12: =SUM(J11:J12) -> 360 | M12: Frank Hunt | N12: 193 | O12: =SUM(N11:N12) -> 378
A14: Brittany Crawford | B14: 185 | E14: Shauna Franchewski | F14: 232 | I14: Sharon Tataryne | J14: 212 | M14: John Doe | N14: 160
A15: Jason Borle | B15: 231 | C15: =SUM(B14:B15) -> 416 | E15: Frank Hunt | F15: 181 | G15: =SUM(F14:F15) -> 413 | I15: Lynne Gauthier | J15: 212 | K15: =SUM(J14:J15) -> 424 | M15: John Doe | N15: 160 | O15: =SUM(N14:N15) -> 320
A16: vs | E16: vs | I16: vs | M16: vs
A17: Claudio Silvari | B17: 186 | E17: Earl Sobotkiewicz | F17: 257 | I17: David Hawrysh | J17: 202 | M17: Kerrie Watson\ | N17: 175
A18: Michael Boroskae | B18: 130 | C18: =SUM(B17:B18) -> 316 | E18: Randy Kostenuk | F18: 156 | G18: =SUM(F17:F18) -> 413 | I18: Doug Ross | J18: 188 | K18: =SUM(J17:J18) -> 390 | M18: Kevin Higgins | N18: 178 | O18: =SUM(N17:N18) -> 353
A20: Armand Garcia | B20: 131 | E20: Shauna Franchewski | F20: 48 | I20: Tyler Krawetz | M20: Rob Dufrean | N20: 202
A21: Alvin Magdaluyo | B21: 134 | C21: =SUM(B20:B21) -> 265 | E21: Frank Hunt | F21: 48 | G21: =SUM(F20:F21) -> 96 | I21: Brad Muth | J21: 196 | K21: =SUM(J20:J21) -> 196 | M21: Clem Perreault | N21: 211 | O21: =SUM(N20:N21) -> 413
A22: vs | E22: vs | I22: vs | M22: vs
A23: Ryan Kruk | B23: 192 | E23: Earl Sobotkiewicz | F23: 49 | I23: Marissa Naylor | J23: 198 | M23: John Doe | N23: 160
A24: Dan Tereck | B24: 173 | C24: =SUM(B23:B24) -> 365 | E24: Randy Kostenuk | F24: 90 | G24: =SUM(F23:F24) -> 139 | I24: Liam Naylor | J24: 223 | K24: =SUM(J23:J24) -> 421 | M24: John Doe | N24: 160 | O24: =SUM(N23:N24) -> 320
A26: John Doe | B26: 160
A27: John Doe | B27: 160 | C27: =SUM(B26:B27) -> 320
A28: vs
A29: Tyler Krawetz | B29: 182
A30: Brad Muth | B30: 157 | C30: =SUM(B29:B30) -> 339
D33: ROUND 3 | L33: ROUND 4
A34: David Hawrysh | B34: 257 | E34: Robbie Scerbo | F34: 190 | I34: Lynne Gauthier | J34: 158 | M34: Robbie Scerbo | N34: 238
A35: Doug Ross | B35: 215 | C35: =SUM(B34:B35) -> 472 | E35: Michael Schmidt | F35: 242 | G35: =SUM(F34:F35) -> 432 | I35: Sharon Tataryn | J35: 181 | K35: =SUM(J34:J35) -> 339 | M35: Michael Schmidt | N35: 205 | O35: =SUM(N34:N35) -> 443
A36: vs | E36: vs | I36: vs | M36: vs
A37: Kerrie Watson | B37: 223 | E37: Rob Dufreane | F37: 175 | I37: Brittany Crawford | J37: 190 | M37: David Hawrysh | N37: 202
A38: Kevin Higgins | B38: 140 | C38: =SUM(B37:B38) -> 363 | E38: Clem Perreault | F38: 206 | G38: =SUM(F37:F38) -> 381 | I38: Jason Borle | J38: 279 | K38: =SUM(J37:J38) -> 469 | M38: Doug Ross | N38: 230 | O38: =SUM(N37:N38) -> 432
A40: Tyler Krawetz | B40: 193 | I40: Earl Sobotkiewicz | J40: 182 | M40: Ryan Kruk | N40: 235
A41: Brad Muth | B41: 238 | C41: =SUM(B40:B41) -> 431 | I41: Randy Kostenuk | J41: 219 | K41: =SUM(J40:J41) -> 401 | M41: Dan Tereck | N41: 206 | O41: =SUM(N40:N41) -> 441
A42: vs | I42: vs | M42: vs
A43: Tim Francisco | B43: 160 | I43: Marissa Naylor | J43: 228 | M43: Tyler Krawetz | N43: 159
A44: Kirk Calvadores | B44: 155 | C44: =SUM(B43:B44) -> 315 | I44: Liam Naylor | J44: 223 | K44: =SUM(J43:J44) -> 451 | M44: Brad Muth | N44: 170 | O44: =SUM(N43:N44) -> 329
A46: Ryan Kruk | B46: 158 | E46: Ryan Kruk | F46: 68
A47: Dan Tereck | B47: 191 | C47: =SUM(B46:B47) -> 349 | E47: Dan Tereck | F47: 79 | G47: =SUM(F46:F47) -> 147 | J47: ROUND 5
A48: vs | E48: vs | I48: Robbie Scerbo | J48: 216 | M48: Lynne Gauthier | N48: 178
...

Sheet Spreadsheet
B1: ROUND 1 | C1: ROUND 2 | D1: ROUND 3 | E1: ROUND 4 | F1: ROUND 5 | G1: ROUND 6 | H1: ROUND 7 | I1: ROUND 8A | J1: ROUND 8B | K1: Totpins | L1: Totgmes | M1: AVERAGE | N1: EARNINGS
A3: Mike Schmidt | B3: 266 | C3: 215 | D3: 242 | E3: 205 | F3: 248 | G3: 181 | K3: =SUM(B3:J3) -> 1357 | L3: =COUNT(B3:J3) -> 6 | M3: =SUM(B3:J3)/COUNT(B3:J3) -> 226.16667
A4: Robbie Scerbo | B4: 279 | C4: 185 | D4: 190 | E4: 238 | F4: 216 | G4: 192 | K4: =SUM(B4:J4) -> 1300 | L4: =COUNT(B4:J4) -> 6 | M4: =SUM(B4:J4)/COUNT(B4:J4) -> 216.66667
A5: Lynne Gauthier | B5: 233 | C5: 212 | E5: 158 | F5: 178 | K5: =SUM(B5:J5) -> 781 | L5: =COUNT(B5:J5) -> 4 | M5: =SUM(B5:J5)/COUNT(B5:J5) -> 195.25
A6: Sharon Tataryn | B6: 160 | C6: 212 | E6: 181 | F6: 171 | K6: =SUM(B6:J6) -> 724 | L6: =COUNT(B6:J6) -> 4 | M6: =SUM(B6:J6)/COUNT(B6:J6) -> 181
A7: Rob Dufreane | B7: 175 | C7: 202 | D7: 175 | K7: =SUM(B7:J7) -> 552 | L7: =COUNT(B7:J7) -> 3 | M7: =SUM(B7:J7)/COUNT(B7:J7) -> 184
A8: Clem Perreault | B8: 180 | C8: 211 | D8: 206 | K8: =SUM(B8:J8) -> 597 | L8: =COUNT(B8:J8) -> 3 | M8: =SUM(B8:J8)/COUNT(B8:J8) -> 199
A9: Liam Naylor | B9: 193 | C9: 223 | E9: 223 | G9: 235 | I9: 172 | J9: 170 | K9: =SUM(B9:J9) -> 1216 | L9: =COUNT(B9:J9) -> 6 | M9: =SUM(B9:J9)/COUNT(B9:J9) -> 202.66667
A10: Marissa Naylor | B10: 227 | C10: 198 | E10: 228 | G10: 183 | I10: 211 | J10: 217 | K10: =SUM(B10:J10) -> 1264 | L10: =COUNT(B10:J10) -> 6 | M10: =SUM(B10:J10)/COUNT(B10:J10) -> 210.66667
A11: Frank Hunt | B11: 181 | C11: 193 | K11: =SUM(B11:J11) -> 374 | L11: =COUNT(B11:J11) -> 2 | M11: =SUM(B11:J11)/COUNT(B11:J11) -> 187
A12: Shauna Franchewski | B12: 232 | C12: 185 | K12: =SUM(B12:J12) -> 417 | L12: =COUNT(B12:J12) -> 2 | M12: =SUM(B12:J12)/COUNT(B12:J12) -> 208.5
A13: Claudio Silvari | B13: 186 | C13: 160 | K13: =SUM(B13:J13) -> 346 | L13: =COUNT(B13:J13) -> 2 | M13: =SUM(B13:J13)/COUNT(B13:J13) -> 173
A14: Michael Boroskae | B14: 130 | C14: 183 | K14: =SUM(B14:J14) -> 313 | L14: =COUNT(B14:J14) -> 2 | M14: =SUM(B14:J14)/COUNT(B14:J14) -> 156.5
A15: Brittany Crawford | B15: 185 | C15: 169 | E15: 190 | G15: 168 | H15: 158 | K15: =SUM(B15:J15) -> 870 | L15: =COUNT(B15:J15) -> 5 | M15: =SUM(B15:J15)/COUNT(B15:J15) -> 174
A16: Jason Borle | B16: 231 | C16: 202 | E16: 279 | G16: 166 | H16: 207 | K16: =SUM(B16:J16) -> 1085 | L16: =COUNT(B16:J16) -> 5 | M16: =SUM(B16:J16)/COUNT(B16:J16) -> 217
A17: Armand Garcia | B17: 131 | C17: 167 | D17: 159 | K17: =SUM(B17:J17) -> 457 | L17: =COUNT(B17:J17) -> 3 | M17: =SUM(B17:J17)/COUNT(B17:J17) -> 152.33333
A18: Alvin Magdaluyo | B18: 134 | C18: 243 | D18: 190 | K18: =SUM(B18:J18) -> 567 | L18: =COUNT(B18:J18) -> 3 | M18: =SUM(B18:J18)/COUNT(B18:J18) -> 189
A19: Kevin Higgins | B19: 232 | C19: 178 | D19: 140 | K19: =SUM(B19:J19) -> 550 | L19: =COUNT(B19:J19) -> 3 | M19: =SUM(B19:J19)/COUNT(B19:J19) -> 183.33333
A20: Kerrie Watson | B20: 166 | C20: 175 | D20: 223 | K20: =SUM(B20:J20) -> 564 | L20: =COUNT(B20:J20) -> 3 | M20: =SUM(B20:J20)/COUNT(B20:J20) -> 188
A21: Randy Kostenuk | B21: 156 | C21: 240 | E21: 219 | F21: 164 | K21: =SUM(B21:J21) -> 779 | L21: =COUNT(B21:J21) -> 4 | M21: =SUM(B21:J21)/COUNT(B21:J21) -> 194.75
A22: Earl Sobotkiewicz | B22: 257 | C22: 183 | E22: 182 | F22: 192 | K22: =SUM(B22:J22) -> 814 | L22: =COUNT(B22:J22) -> 4 | M22: =SUM(B22:J22)/COUNT(B22:J22) -> 203.5
A23: Doug Ross | B23: 276 | C23: 188 | D23: 215 | E23: 230 | K23: =SUM(B23:J23) -> 909 | L23: =COUNT(B23:J23) -> 4 | M23: =SUM(B23:J23)/COUNT(B23:J23) -> 227.25
A24: Dave Hawrysh | B24: 206 | C24: 202 | D24: 257 | E24: 202 | K24: =SUM(B24:J24) -> 867 | L24: =COUNT(B24:J24) -> 4 | M24: =SUM(B24:J24)/COUNT(B24:J24) -> 216.75
A25: Dan Tereck | B25: 173 | C25: 183 | D25: 191 | E25: 206 | F25: 258 | G25: 238 | H25: 211 | I25: 232 | J25: 226 | K25: =SUM(B25:J25) -> 1918 | L25: =COUNT(B25:J25) -> 9 | M25: =SUM(B25:J25)/COUNT(B25:J25) -> 213.11111
A26: Ryan Kruk | B26: 192 | C26: 177 | D26: 158 | E26: 235 | F26: 214 | G26: 219 | H26: 186 | I26: 223 | J26: 204 | K26: =SUM(B26:J26) -> 1808 | L26: =COUNT(B26:J26) -> 9 | M26: =SUM(B26:J26)/COUNT(B26:J26) -> 200.88889
A27: Tyler Krawetz | B27: 182 | C27: 148 | D27: 193 | E27: 159 | K27: =SUM(B27:J27) -> 682 | L27: =COUNT(B27:J27) -> 4 | M27: =SUM(B27:J27)/COUNT(B27:J27) -> 170.5
A28: Brad Muth | B28: 157 | C28: 196 | D28: 238 | E28: 170 | K28: =SUM(B28:J28) -> 761 | L28: =COUNT(B28:J28) -> 4 | M28: =SUM(B28:J28)/COUNT(B28:J28) -> 190.25
A29: Tim Francisco | B29: 234 | C29: 236 | D29: 160 | K29: =SUM(B29:J29) -> 630 | L29: =COUNT(B29:J29) -> 3 | M29: =SUM(B29:J29)/COUNT(B29:J29) -> 210
A30: Kirk Calvadores | B30: 206 | C30: 185 | D30: 155 | K30: =SUM(B30:J30) -> 546 | L30: =COUNT(B30:J30) -> 3 | M30: =SUM(B30:J30)/COUNT(B30:J30) -> 182
K31: =SUM(B31:J31) -> 0 | L31: =COUNT(B31:J31) -> 0 | M31: =SUM(B31:J31)/COUNT(B31:J31) -> #DIV/0!
K32: =SUM(B32:J32) -> 0 | L32: =COUNT(B32:J32) -> 0 | M32: =SUM(B32:J32)/COUNT(B32:J32) -> #DIV/0!
K33: =SUM(B33:J33) -> 0 | L33: =COUNT(B33:J33) -> 0 | M33: =SUM(B33:J33)/COUNT(B33:J33) -> #DIV/0!
K34: =SUM(B34:J34) -> 0 | L34: =COUNT(B34:J34) -> 0 | M34: =SUM(B34:J34)/COUNT(B34:J34) -> #DIV/0!
K35: =SUM(B35:J35) -> 0 | L35: =COUNT(B35:J35) -> 0 | M35: =SUM(B35:J35)/COUNT(B35:J35) -> #DIV/0!
K36: =SUM(B36:J36) -> 0 | L36: =COUNT(B36:J36) -> 0 | M36: =SUM(B36:J36)/COUNT(B36:J36) -> #DIV/0!
L38: =SUM(L3:L36) -> 116
